BEGIN:VCALENDAR
VERSION:2.0
PRODID:icalendar-ruby
CALSCALE:GREGORIAN
METHOD:PUBLISH
BEGIN:VEVENT
DTSTAMP:20260425T131105Z
UID:78-396882@christcommunity.tithelysetup5.com
DTSTART:20260507T020000Z
DTEND:20260507T033000Z
CLASS:PUBLIC
CREATED:20260422T083201
DESCRIPTION:You’re Invited! Ladies\, join us for our Women’s Bible Stud
 y currently being held the first WEDNESDAY of every month at Sister Joanne
 ’s home in Sanger. It’s a time to slow down\, connect with one another
 \, and be refreshed through God’s Word and prayer.\nCome for encourageme
 nt\, fellowship\, and meaningful conversations that will strengthen your f
 aith and spirit.\nLocation: Sister Joanne’s home\, 2538 Sequoia Ave\, Sa
 nger\, CaliforniaWhen: First Thursday of every month\nBring your Bible and
  a friend—we can’t wait to grow together in Christ!
LAST-MODIFIED:20260422T083201
LOCATION:Sister Joanne's Home\, 2538 Sequoia Ave\, Sanger\, California
SUMMARY:Women's Monthly Bible Study
URL;VALUE=URI:https://c3cv.org/events/womens-monthly-bible-study/2026-05-06
ATTACH;FILENAME=Womens-Monthly-bible-study-2.png;FMTTYPE=image/png:https://
 dq5pwpg1q8ru0.cloudfront.net/2026/04/22/03/05/21/c05a8ee0-2149-4112-918a-5
 6f91a55ff0b/Womens-Monthly-bible-study-2.png
END:VEVENT
END:VCALENDAR
