BEGIN:VCALENDAR
VERSION:2.0
PRODID:icalendar-ruby
CALSCALE:GREGORIAN
METHOD:PUBLISH
BEGIN:VEVENT
DTSTAMP:20260425T132508Z
UID:84-396291@christcommunity.tithelysetup5.com
DTSTART:20260510T163000Z
DTEND:20260510T180000Z
CLASS:PUBLIC
CREATED:20260421T183652
DESCRIPTION:Join us as we honor the incredible women who pour love\, faith\
 , and wisdom into our lives!At A Fruitful Life: Celebrating Moms\, we will
  gather for a beautiful time of fellowship\, encouragement\, and celebrati
 on. Enjoy a delicious fruit-themed breakfast\, meaningful conversation\, a
 nd a time of reflection on the ways God uses women to bless families\, chu
 rches\, and communities.\nWhether you are a mother\, grandmother\, spiritu
 al mentor\, or a woman who sows seeds of faith in the lives of others\, th
 is event is for you. Let's celebrate the fruits of faith\, love\, and devo
 tion that shine through godly women everywhere!\nDetails:Date: Sunday\, Ma
 y 10Time: 930 AMFruit bowls and refreshments provided\nBring your friends\
 , daughters\, and mentors—and let's celebrate the beauty of a life roote
 d in Christ together!
LAST-MODIFIED:20260421T183652
LOCATION:
SUMMARY:Mother's Day
URL;VALUE=URI:https://c3cv.org/events/mothers-day/2026-05-10
ATTACH;FILENAME=Mothers-Day-2026.png;FMTTYPE=image/png:https://dq5pwpg1q8ru
 0.cloudfront.net/2026/04/22/01/36/51/31e4b613-cad4-4e3a-a95a-57a791b49b41/
 Mothers-Day-2026.png
END:VEVENT
END:VCALENDAR
