BEGIN:VCALENDAR
VERSION:2.0
PRODID:icalendar-ruby
CALSCALE:GREGORIAN
METHOD:PUBLISH
BEGIN:VEVENT
DTSTAMP:20260425T131355Z
UID:77-396900@christcommunity.tithelysetup5.com
DTSTART:20260425T163000Z
DTEND:20260425T180000Z
CLASS:PUBLIC
CREATED:20260422T083317
DESCRIPTION:Little Women Bible Study\nCalling all high school and college-a
 ge girls! We invite you to join Little Women\, a Bible study designed to e
 ncourage and equip young women to grow in their faith and identity in Chri
 st. Together\, we’ll dive into Scripture\, share meaningful conversation
 s\, and support one another in living out God’s purpose for our lives.\n
 Who: High school &amp\; college-age girlsWhy: To grow in faith\, build str
 ong friendships\, and walk boldly as young women of God\nCome as you are a
 nd bring a friend—there’s a seat for you!
LAST-MODIFIED:20260422T083317
LOCATION:19100 E Vino Avenue\, Reedley\, California 93654
SUMMARY:LIttle Women 
URL;VALUE=URI:https://c3cv.org/events/little-women--77/2026-04-25
ATTACH;FILENAME=website-flyers.png;FMTTYPE=image/png:https://dq5pwpg1q8ru0.
 cloudfront.net/2025/10/01/15/55/22/8d24fdeb-5c7d-46cc-b23c-c5c36ad89743/we
 bsite-flyers.png
END:VEVENT
END:VCALENDAR
